BEGIN:VCALENDAR
PRODID:-//AT Content Types//AT Event//EN
VERSION:1.0
BEGIN:VEVENT
DTSTART:20111103T170000Z
DTEND:20111103T180000Z
DCREATED:20111030T204653Z
UID:ATEvent-41451c97b274ec1f3025ca58a273bc0f
SEQUENCE:0
LAST-MODIFIED:20111030T204721Z
SUMMARY:Märchen im Café
DESCRIPTION:Wer an einem Caféhaustisch Platz genommen hat\, hat die M
 öglichkeit\, von der Märchen-Menü-Karte eine Erzählung auszuwähle
 n. Gemütlich sein\, Lauschen\, Genießen und sich ganz persönlich mi
 t einer Geschichte verwöhnen lassen.. hier ist die Gelegenheit!
LOCATION:Café Ritter\, Ottakringerstr. 117\, 1160 Wien
PRIORITY:3
TRANSP:0
END:VEVENT
END:VCALENDAR
