BEGIN:VCALENDAR
PRODID:-//AT Content Types//AT Event//EN
VERSION:1.0
BEGIN:VEVENT
DTSTART:20110526T160000Z
DTEND:20110526T170000Z
DCREATED:20110524T141831Z
UID:ATEvent-272bd961c3767cc07ed35fe425065d4b
SEQUENCE:0
LAST-MODIFIED:20110524T141845Z
SUMMARY:Märchen im Café
DESCRIPTION:Ganz persönlich Märchen und Weisheitsgeschichten von der
  Märchen-Karte auswählen\, die Erzählerin zu sich an den Tisch lade
 n\, oder zu ihr gehen\, \nund dann genießen\, eintauchen\, lauschen\,
  Bilder spinnen\, auftanken\, überrascht werden\, Schätze mitnehmen.
 ..und außerdem ein gemütliches Stündchen im Caféhaus verbringen...
 
LOCATION:Café Ritter\, Ottakringerstr. 117\, 1160 Wien
PRIORITY:3
TRANSP:0
END:VEVENT
END:VCALENDAR
