BEGIN:VCALENDAR
PRODID:-//AT Content Types//AT Event//EN
VERSION:2.0
METHOD:PUBLISH
BEGIN:VEVENT
DTSTAMP:20260422T171245Z
CREATED:20110217T213251Z
UID:ATEvent-77c755afb5f9206a45c88e7aca9423d2
LAST-MODIFIED:20110217T213300Z
SUMMARY:Märchen im Café
DTSTART:20110324T160000Z
DTEND:20110324T190000Z
DESCRIPTION:Wählen Sie aus der Märchenkarte\, setzen Sie sich zur Er
 zählerin an den Caféhaustisch\, genießen Sie\, wie die Geschichte g
 anz persönlich für Sie in Worte gekleidet wird...
LOCATION:Café Ritter\, Ottakringerstr. 117\, 1160 Wien
CATEGORIES:Wien
CONTACT:Margarete Wenzel\, 01-481 76 64\, mw@maerchenakademie-wien.at
URL:http://www.maerchenakademie-wien.at
CLASS:PUBLIC
END:VEVENT
END:VCALENDAR
