BEGIN:VCALENDAR
PRODID:-//AT Content Types//AT Event//EN
VERSION:1.0
BEGIN:VEVENT
DTSTART:20131013T160000Z
DTEND:20131013T170000Z
DCREATED:20130411T104139Z
UID:ATEvent-22b7f1e83b7a1e051912632ff87f3ab4
SEQUENCE:0
LAST-MODIFIED:20130411T104147Z
SUMMARY:Märchen im Café
DESCRIPTION:Erzählerin Margarete Wenzel kommt zu Ihnen an den Caféha
 ustisch. Sie wählen Ihr "Geschichtenmenu" von der Märchenkarte.
LOCATION:Café Ritter\, Ottakringer Straße 117\, 1160 Wien\, www.cafe-ritter.at
PRIORITY:3
TRANSP:0
END:VEVENT
END:VCALENDAR
