BEGIN:VCALENDAR
PRODID:-//AT Content Types//AT Event//EN
VERSION:1.0
BEGIN:VEVENT
DTSTART:20121113T170000Z
DTEND:20121113T180000Z
DCREATED:20121113T155530Z
UID:ATEvent-778ba70a2395aa470718d6550dfc5cb2
SEQUENCE:0
LAST-MODIFIED:20121113T155538Z
SUMMARY:Märchen im Café
DESCRIPTION:Erzählerin Margarete Wenzel kommt zu Ihnen an den Caféha
 ustisch. Sie wählen Ihr "Geschichtenmenu" von der Märchenkarte.
LOCATION:Café Ritter\, Ottakringer Straße 117\, 1160 Wien\, www.cafe-ritter.at
PRIORITY:3
TRANSP:0
END:VEVENT
END:VCALENDAR
