BEGIN:VCALENDAR
PRODID:-//AT Content Types//AT Event//EN
VERSION:2.0
METHOD:PUBLISH
BEGIN:VEVENT
DTSTAMP:20260422T171333Z
CREATED:20121113T154956Z
UID:ATEvent-01aec0041a8014376a9e3067e83aad25
LAST-MODIFIED:20121113T155006Z
SUMMARY:Märchen im Café
DTSTART:20130609T160000Z
DTEND:20130609T170000Z
DESCRIPTION:Erzählerin Margarete Wenzel kommt zu Ihnen an den Caféha
 ustisch. Sie wählen Ihr "Geschichtenmenu" von der Märchenkarte.
LOCATION:Café Ritter\, Ottakringer Straße 117\, 1160 Wien\, www.cafe-ritter.at
CATEGORIES:Wien
CONTACT:Margarete Wenzel\, 01-481 76 64
URL:http://maerchenakademie-wien.at
CLASS:PUBLIC
END:VEVENT
END:VCALENDAR
