BEGIN:VCALENDAR
PRODID:-//AT Content Types//AT Event//EN
VERSION:2.0
METHOD:PUBLISH
BEGIN:VEVENT
DTSTAMP:20260422T193723Z
CREATED:20121113T154832Z
UID:ATEvent-58732640da58951989ee2308f9c8fe27
LAST-MODIFIED:20121113T154840Z
SUMMARY:Märchen im Café
DTSTART:20130512T160000Z
DTEND:20130512T170000Z
DESCRIPTION:Erzählerin Margarete Wenzel kommt zu Ihnen an den Caféha
 ustisch. Sie wählen Ihr "Geschichtenmenu" von der Märchenkarte.
LOCATION:Café Ritter\, Ottakringer Straße 117\, 1160 Wien\, www.cafe-ritter.at
CATEGORIES:Wien
CONTACT:Margarete Wenzel\, 01-481 76 64
URL:http://maerchenakademie-wien.at
CLASS:PUBLIC
END:VEVENT
END:VCALENDAR
