BEGIN:VCALENDAR
PRODID:-//AT Content Types//AT Event//EN
VERSION:1.0
BEGIN:VEVENT
DTSTART:20130317T170000Z
DTEND:20130317T180000Z
DCREATED:20121113T154326Z
UID:ATEvent-660a101704ba8e6184527f2bc31b4559
SEQUENCE:0
LAST-MODIFIED:20121113T154334Z
SUMMARY:Märchen im Café
DESCRIPTION:Erzählerin Margarete Wenzel kommt zu Ihnen an den Caféha
 ustisch. Sie wählen Ihr "Geschichtenmenu" von der Märchenkarte.
LOCATION:Café Ritter\, Ottakringer Straße 117\, 1160 Wien\, www.cafe-ritter.at
PRIORITY:3
TRANSP:0
END:VEVENT
END:VCALENDAR
