BEGIN:VCALENDAR
PRODID:-//AT Content Types//AT Event//EN
VERSION:1.0
BEGIN:VEVENT
DTSTART:20130224T170000Z
DTEND:20130224T180000Z
DCREATED:20121113T154123Z
UID:ATEvent-629508b92bb93b891dee457dca222370
SEQUENCE:0
LAST-MODIFIED:20121113T154138Z
SUMMARY:Märchen im Café
DESCRIPTION:Erzählerin Margarete Wenzel kommt zu Ihnen an den Caféha
 ustisch. Sie wählen Ihr "Geschichtenmenu" von der Märchenkarte.
LOCATION:Café Ritter\, Ottakringer Straße 117\, 1160 Wien\, www.cafe-ritter.at
PRIORITY:3
TRANSP:0
END:VEVENT
END:VCALENDAR
