BEGIN:VCALENDAR
PRODID:-//AT Content Types//AT Event//EN
VERSION:2.0
METHOD:PUBLISH
BEGIN:VEVENT
DTSTAMP:20260422T171333Z
CREATED:20121113T153145Z
UID:ATEvent-afa8dde2939943f1b8360c52dea58f77
LAST-MODIFIED:20121113T153335Z
SUMMARY:Märchen im Café
DTSTART:20121202T170000Z
DTEND:20121202T180000Z
DESCRIPTION:Erzählerin Margarete Wenzel kommt zu Ihnen an den Caféha
 ustisch. Sie wählen Ihr "Geschichtenmenu" von der Märchenkarte.
LOCATION:Café Ritter\, Ottakringer Straße 117\, 1160 Wien\, www.cafe-ritter.at
CATEGORIES:Wien
CONTACT:Margarete Wenzel\, 01-481 76 64\, mw@maerchenakademie-wien.at
URL:http://maerchenakademie-wien.at
CLASS:PUBLIC
END:VEVENT
END:VCALENDAR
