BEGIN:VCALENDAR
PRODID:-//AT Content Types//AT Event//EN
VERSION:1.0
BEGIN:VEVENT
DTSTART:20121122T170000Z
DTEND:20121122T180000Z
DCREATED:20120722T101936Z
UID:ATEvent-001b4a9814b78cdafbb6d9c3eadfade3
SEQUENCE:0
LAST-MODIFIED:20120722T102650Z
SUMMARY:Märchen im Café
DESCRIPTION:Erzählerin Margarete Wenzel kommt zu Ihnen an den Caféha
 ustisch. Sie wählen Ihr "Geschichtenmenu" von der Märchenkarte.
LOCATION:Café Ritter\, Ottakringer Str. 117\, 1160 Wien
PRIORITY:3
TRANSP:0
END:VEVENT
END:VCALENDAR
