BEGIN:VCALENDAR
PRODID:-//AT Content Types//AT Event//EN
VERSION:1.0
BEGIN:VEVENT
DTSTART:20121018T160000Z
DTEND:20121018T170000Z
DCREATED:20120722T101542Z
UID:ATEvent-0acbd2e2f250d7505a6cbac3b0610e8b
SEQUENCE:0
LAST-MODIFIED:20120722T102552Z
SUMMARY:Märchen im Café
DESCRIPTION:Erzählerin\: Margarete Wenzel kommt zu Ihnen an den Café
 haustisch. Sie wählen Ihr "Geschichtenmenu" von der Märchenkarte.
LOCATION:Café Ritter\, Ottakringer Str. 117\, 1160 Wien
PRIORITY:3
TRANSP:0
END:VEVENT
END:VCALENDAR
