BEGIN:VCALENDAR
PRODID:-//AT Content Types//AT Event//EN
VERSION:2.0
METHOD:PUBLISH
BEGIN:VEVENT
DTSTAMP:20260422T173239Z
CREATED:20121210T154039Z
UID:ATEvent-d4aaec22bce2e668a9c8e3e88c540db0
LAST-MODIFIED:20121210T154051Z
SUMMARY:Märchen gegen die Kälte aus dem Nähkästchen
DTSTART:20121222T130000Z
DTEND:20121222T160000Z
DESCRIPTION:Erzählerin Barbara Beinsteiner / Himmlischer Advent am Ra
 smushof\, Kitzbühel / Eintritt freu!
LOCATION:Himmlischer Advent am Rasmushof\, Kitzbühel
CATEGORIES:Tirol
CONTACT:Barbara Beinsteiner\, barbara.beinsteiner@gmx.at
CLASS:PUBLIC
END:VEVENT
END:VCALENDAR
