BEGIN:VCALENDAR
PRODID:-//AT Content Types//AT Event//EN
VERSION:1.0
BEGIN:VEVENT
DTSTART:20121006T170000Z
DTEND:20121006T230000Z
DCREATED:20121001T102304Z
UID:ATEvent-f8cfd4ee2e4240970f7a9d4fc0c0fc06
SEQUENCE:0
LAST-MODIFIED:20121001T102341Z
SUMMARY:Märchen\, Feuerjonglage und Musik
DESCRIPTION:mit Margarete Wenzel (Erzählerin\, www.margaretewenzel.co
 m\, www.maerchenakademie-wien.at)\, Eduard Neumayer (Feuergaukler\, ww
 w.clownede.at  - die Feuerjonglage kann nur ohne Sturm und große Näs
 se stattfinden) & Karen Schlimp (Musik\, www.pianomobile.com)\n(24 h\:
  Mitternachtseinlage)\nORF – Lange Nacht der Museen 2012\: im Öster
 r. Gartenbaumuseum „Nacht im Garten – Gärten der Nacht“\nErreic
 hbarkeit\: U1 – Station Kagran\n\nInfos unter\: 01/4000 42270 oder m
 useum@ma42.wien.gv.at / gartentelefon@ma42.wien.gv.at
LOCATION:Österreichischen Gartenbaumuseum\; 1220 Wien\, Siebeckstrase 14
PRIORITY:3
TRANSP:0
END:VEVENT
END:VCALENDAR
