BEGIN:VCALENDAR
PRODID:-//AT Content Types//AT Event//EN
VERSION:2.0
METHOD:PUBLISH
BEGIN:VEVENT
DTSTAMP:20260422T194709Z
CREATED:20120928T101334Z
UID:ATEvent-a76759b652cf998f32f986ad50d376a9
LAST-MODIFIED:20120928T101358Z
SUMMARY:Märchen aus dem Nähkästchen
DTSTART:20121006T120000Z
DTEND:20121006T150000Z
DESCRIPTION:Barbara Beinsteiner erzählt Märchen aus dem Nähkästche
 n für Menschen ab 6 Jahren\nZu jeder halben und vollen Stunde ein and
 eres Märchen!\n\nEintritt freu!
LOCATION:Familientage Außerfern\, Ehrwald\, Martinsplatz
CATEGORIES:Tirol
CONTACT:Barbara Beinsteiner\, barbara.beinsteiner@gmx.at
CLASS:PUBLIC
END:VEVENT
END:VCALENDAR
