BEGIN:VCALENDAR
PRODID:-//AT Content Types//AT Event//EN
VERSION:1.0
BEGIN:VEVENT
DTSTART:20121208T130000Z
DTEND:20121208T160000Z
DCREATED:20121210T154556Z
UID:ATEvent-189e6d2ab74dc9501fe590d6234eacd1
SEQUENCE:0
LAST-MODIFIED:20121210T154602Z
SUMMARY:Märchen aus dem Nähkästchen
DESCRIPTION:Erzählerin Barbara Beinsteiner / zu jeder vollen und halb
 en Stunde / Eintritt freu!
LOCATION:Stadtgalerien Schwaz\, Geschäftslokal „Depot“
PRIORITY:3
TRANSP:0
END:VEVENT
END:VCALENDAR
