BEGIN:VCALENDAR
PRODID:-//AT Content Types//AT Event//EN
VERSION:2.0
METHOD:PUBLISH
BEGIN:VEVENT
DTSTAMP:20260422T172104Z
CREATED:20121210T154409Z
UID:ATEvent-dcdec4259ec5c9a751391dca63b97ad2
LAST-MODIFIED:20121210T154416Z
SUMMARY:Märchen aus dem Nähkästchen
DTSTART:20121201T140000Z
DTEND:20121201T150000Z
DESCRIPTION:Erzählerin Barbara Beinsteiner\: Als das Wünschen noch g
 eholfen hat – für Schulkinder und ihre Erwachsenen / \nEintritt fre
 u! /  http\://www.heimatmuseum-neustift.com/
LOCATION:Heimatmuseum Neustift
CATEGORIES:Tirol
CONTACT:Barbara Beinsteiner\, barbara.beinsteiner@gmx.at
URL:http://www.heimatmuseum-neustift.com/
CLASS:PUBLIC
END:VEVENT
END:VCALENDAR
