BEGIN:VCALENDAR
PRODID:-//AT Content Types//AT Event//EN
VERSION:2.0
METHOD:PUBLISH
BEGIN:VEVENT
DTSTAMP:20260422T172117Z
CREATED:20120928T101545Z
UID:ATEvent-8d8df7e8e3ac09afb4bc9f8fe5907e2a
LAST-MODIFIED:20120928T101703Z
SUMMARY:Märchen aus dem Nähkästchen
DTSTART:20121026T113000Z
DTEND:20121026T133000Z
DESCRIPTION:Barbara Beinsteiner erzählt Märchen aus dem Nähkästche
 n für Menschen ab 6 Jahren beim\nFamilientag im Museum Goldenes Dachl
 \, Eintritt freu!
LOCATION:Museum Goldenes Dachl
CATEGORIES:Tirol
CONTACT:Barbara Beinsteiner\, barbara.beinsteiner@gmx.at
URL:http://www.innsbruck.gv.at/page.cfm?vpath=bildung--kultur/veranstaltungen/kulturveranstaltungen
CLASS:PUBLIC
END:VEVENT
END:VCALENDAR
