BEGIN:VCALENDAR
PRODID:-//AT Content Types//AT Event//EN
VERSION:2.0
METHOD:PUBLISH
BEGIN:VEVENT
DTSTAMP:20260422T172104Z
CREATED:20130516T125730Z
UID:ATEvent-7436916405e01624e3723530634533c9
LAST-MODIFIED:20130516T125816Z
SUMMARY:Märchen am Stadtfest Leonding
DTSTART:20130621T130000Z
DTEND:20130621T160000Z
DESCRIPTION:Margit Obermair erzählt mehrere Märchen
LOCATION:direkt am Stadtplatz Leonding bei Linz
CATEGORIES:Oberösterreich
CONTACT:Margit Obermair\, +43 650 2050203\, maerchen-margit@aon.at
URL:http://www.maerchen-margit.com
CLASS:PUBLIC
END:VEVENT
END:VCALENDAR
