BEGIN:VCALENDAR
PRODID:-//AT Content Types//AT Event//EN
VERSION:2.0
METHOD:PUBLISH
BEGIN:VEVENT
DTSTAMP:20260422T173518Z
CREATED:20130411T114342Z
UID:ATEvent-c3c02075760bcf04e99a433380a5fc46
LAST-MODIFIED:20130411T114508Z
SUMMARY:In den Schlaf erzählt - Von Geschichten geweckt
DTSTART:20130430T173000Z
DTEND:20130501T060000Z
DESCRIPTION:Walpurgisnacht mit Märchen (Leni Leitgeb und Margarete We
 nzel) und Musik (Hermann Kühebacher)   /   Anmeldung unter  http\://w
 ww.jukas.net/cs.asp?st=107&id=1262 \, Anmeldeschluss\: Freitag\, 19. A
 pril 13  /   Beitrag\: 35\,00 Euro für Erwachsene  /  28\,00 Euro fü
 r Kinder und Jugendliche\; Die Preise verstehen sich inklusive Mittern
 achtssuppe\, Frühstück und Getränke.
LOCATION:Jugendhaus Kassianeum\, Brixen
CATEGORIES:Südtirol
URL:http://www.jukas.net/cs.asp?st=107&id=1262
CLASS:PUBLIC
END:VEVENT
END:VCALENDAR
