BEGIN:VCALENDAR
PRODID:-//AT Content Types//AT Event//EN
VERSION:2.0
METHOD:PUBLISH
BEGIN:VEVENT
DTSTAMP:20260422T172217Z
CREATED:20120928T102401Z
UID:ATEvent-325afc7421a1bb0ad4200f34d7dcb1af
LAST-MODIFIED:20120928T102409Z
SUMMARY:HEXEN\, KÜSSE\, WASSERGEISTER
DTSTART:20121006T130000Z
DTEND:20121006T143000Z
DESCRIPTION:Mit Christa Schmollgruber ein Sagen-Spaziergang rund um de
 n halben Ring für die ganze Familie im Rahmen von wienXtra.\nKosten\:
  € 4/Person\nAnmeldung erforderlich bei Christa Schmollgruber
LOCATION:Schwedenplatz/Ecke Rotenturmstraße an der Litfaßsäule unter den Platanen gegenüber dem McDonalds
CONTACT:Christa Schmollgruber\, 0676-3927021\, cs@maerchenfuermenschen.at
URL:http://www.maerchenfuermenschen.at
CLASS:PUBLIC
END:VEVENT
END:VCALENDAR
