BEGIN:VCALENDAR
PRODID:-//AT Content Types//AT Event//EN
VERSION:2.0
METHOD:PUBLISH
BEGIN:VEVENT
DTSTAMP:20260422T172116Z
CREATED:20120928T103143Z
UID:ATEvent-434fc751acd924fb8b4e37b3150aa656
LAST-MODIFIED:20120928T103150Z
SUMMARY:GRUSEL-GEWUSEL - Halloween-Kinderfest
DTSTART:20121031T150000Z
DTEND:20121031T190000Z
DESCRIPTION:Mit Christa Schmollgruber\: Kreativ-Werkstatt\, Zaubershow
 \, GRUSEL-MÄRCHEN und noch vieles mehr erwarten Euch in Eisenstadt.\n
 Kosten\: € 8\,-/Person\n\nInformation & Kartenbestellung\: Kulturser
 vice Burgenland KSB\, 0043-2682-719-3000 oder pauli@pauli-plappagei.at
 
LOCATION:Orangerie im Schlosspark Eisenstadt
CATEGORIES:Burgenland
CONTACT:Kulturservice Burgenland\, 0043-2682-719-3000\, pauli@pauli-plappagei.at
CLASS:PUBLIC
END:VEVENT
END:VCALENDAR
