BEGIN:VCALENDAR
PRODID:-//AT Content Types//AT Event//EN
VERSION:2.0
METHOD:PUBLISH
BEGIN:VEVENT
DTSTAMP:20260422T193756Z
CREATED:20120308T171530Z
UID:ATEvent-e12b652305b26a94d83db0607d104614
LAST-MODIFIED:20120308T171538Z
SUMMARY:Geschichtenmarathon
DTSTART:20120320T080000Z
DTEND:20120320T190000Z
DESCRIPTION:17 ErzählerInnen feiern mit Baum-Märchen den Weltgeschic
 htentag-Feiert mit!
LOCATION:WUK\, Währinger Str. 59\, 1090 Wien
CATEGORIES:Wien
CONTACT:Margarete Wenzel\, 01-481 76 64\, mw@maerchenakademie-wien.at
URL:http://www.maerchenakademie-wien.at
CLASS:PUBLIC
END:VEVENT
END:VCALENDAR
