BEGIN:VCALENDAR
PRODID:-//AT Content Types//AT Event//EN
VERSION:2.0
METHOD:PUBLISH
BEGIN:VEVENT
DTSTAMP:20260422T172329Z
CREATED:20130312T120054Z
UID:ATEvent-0f312c7d579b978088491107e38cb9f6
LAST-MODIFIED:20130312T120159Z
SUMMARY:Geschichten vom wachsen und leben
DTSTART:20130327T150000Z
DTEND:20130327T160000Z
DESCRIPTION:Justine Sundl erzählt
LOCATION:Stadtbibliothek Knittelfeld
CATEGORIES:Steiermark
CONTACT:Justine Sundl\, 0664 8342271\, justine@sundl.at
CLASS:PUBLIC
END:VEVENT
END:VCALENDAR
