BEGIN:VCALENDAR
PRODID:-//AT Content Types//AT Event//EN
VERSION:2.0
METHOD:PUBLISH
BEGIN:VEVENT
DTSTAMP:20260422T194810Z
CREATED:20130321T150206Z
UID:ATEvent-5b6921421bbcdb59951272086187a440
LAST-MODIFIED:20130321T150321Z
SUMMARY:Geschichten aus Kärnten
DTSTART:20130406T090000Z
DTEND:20130406T124000Z
DESCRIPTION:Tamara Anna Hölzlsauer führt mit Musik und Geschichten i
 n die Welt der Lindwürmer\, Goldwächter und Riesen.
LOCATION:Museum für moderne Kunst\,
CATEGORIES:Kärnten
CONTACT:Tamara Hölzlsauer\, +43 664 1040418\, TamaraAnna@maerchen-erzaehlerin.at
URL:http://www.maerchen-erzaehlerin.at
CLASS:PUBLIC
END:VEVENT
END:VCALENDAR
