BEGIN:VCALENDAR
PRODID:-//AT Content Types//AT Event//EN
VERSION:2.0
METHOD:PUBLISH
BEGIN:VEVENT
DTSTAMP:20260422T171843Z
CREATED:20121210T160847Z
UID:ATEvent-7e49e82c574e4b799da76870f314cc47
LAST-MODIFIED:20121210T160854Z
SUMMARY:Geschichten aus der Weihnachtskiste
DTSTART:20121219T140000Z
DTEND:20121219T150000Z
DESCRIPTION:Saga Susa erzählt
LOCATION:Bücherei Penzing\, Wien 14
CATEGORIES:Wien
CONTACT:Saga Susa / Monica Stach\, nfo@sagasusa.at
URL:http://www.sagasusa.at
CLASS:PUBLIC
END:VEVENT
END:VCALENDAR
