BEGIN:VCALENDAR
PRODID:-//AT Content Types//AT Event//EN
VERSION:2.0
METHOD:PUBLISH
BEGIN:VEVENT
DTSTAMP:20260422T171247Z
CREATED:20130312T120435Z
UID:ATEvent-85d74312c29793380f630bd5c78474fd
LAST-MODIFIED:20130312T120904Z
SUMMARY:Frühlingsgeschichten
DTSTART:20130411T130000Z
DTEND:20130411T140000Z
DESCRIPTION:Justine Sundl erzählt
LOCATION:EKIZ ST. Marein im Mürztal
CATEGORIES:Steiermark
CONTACT:Justine Sundl\, 0664 8342271\, justine@sundl.at
CLASS:PUBLIC
END:VEVENT
END:VCALENDAR
