BEGIN:VCALENDAR
PRODID:-//AT Content Types//AT Event//EN
VERSION:2.0
METHOD:PUBLISH
BEGIN:VEVENT
DTSTAMP:20260422T171444Z
CREATED:20130312T120759Z
UID:ATEvent-e2c0a6b6ae6ef407df690c9fb21c910a
LAST-MODIFIED:20130312T120814Z
SUMMARY:Frühlingsgeschichten
DTSTART:20130411T140000Z
DTEND:20130411T150000Z
DESCRIPTION:Justine Sundl erzählt
LOCATION:EKIZ ST. Marein im Mürztal
CATEGORIES:Steiermark
CONTACT:Justine Sundl\, 0664 8342271\, justine@sundl.at
CLASS:PUBLIC
END:VEVENT
END:VCALENDAR
