BEGIN:VCALENDAR
PRODID:-//AT Content Types//AT Event//EN
VERSION:2.0
METHOD:PUBLISH
BEGIN:VEVENT
DTSTAMP:20260422T194940Z
CREATED:20111030T205849Z
UID:ATEvent-5d193d92a8b7d6965b6435daa53c23e3
LAST-MODIFIED:20111030T210137Z
SUMMARY:Frei erzählen - Das Grundlagenseminar
DTSTART:20111104T170000Z
DTEND:20111106T120000Z
DESCRIPTION:Erzählübungen\, Grundsätzliches zum Erzählgeschehen\, 
 Tipps und Tricks zum Geschichtenmerken\, Kontakt zu den Zuhörenden\, 
 Mutfinden\, Erzählerfolg wagen…\nWas bewirkt Erzählen? Wieso ist f
 reies Sprechen nicht selbstverständlich und was kann es für mich sel
 bstverständlich machen?
LOCATION:Kreativwerkstatt Blumberg\, 1160 Wien\, Blumberggasse 4\, Souterrain
CATEGORIES:Wien
CONTACT:Margarete Wenzel\, 01-481 76 64\, mw@maerchenakademie-wien.at
URL:http://www.maerchenakademie-wien.at
CLASS:PUBLIC
END:VEVENT
END:VCALENDAR
