BEGIN:VCALENDAR
PRODID:-//AT Content Types//AT Event//EN
VERSION:1.0
BEGIN:VEVENT
DTSTART:20130712T180000Z
DTEND:20130712T193000Z
DCREATED:20130411T115558Z
UID:ATEvent-666bc54a812bddea2b521a06adc5a458
SEQUENCE:0
LAST-MODIFIED:20130411T115714Z
SUMMARY:Feuermond - Erdbeeren mit Pfeffer
DESCRIPTION:mit Frau Wolle und Margarete Wenzel (Erzählerinnen) und K
 aren Schlimp (Musikerin)   /   Eintritt\: 14.-
LOCATION:Tiroler Volkskunstmuseum\, Innsbruck
PRIORITY:3
TRANSP:0
END:VEVENT
END:VCALENDAR
