BEGIN:VCALENDAR
PRODID:-//AT Content Types//AT Event//EN
VERSION:2.0
METHOD:PUBLISH
BEGIN:VEVENT
DTSTAMP:20260422T172646Z
CREATED:20130411T115817Z
UID:ATEvent-74a6bb3216958ea7f29174cdc5aa6412
LAST-MODIFIED:20130411T115825Z
SUMMARY:Feuermond - Erdbeeren mit Pfeffer
DTSTART:20130713T180000Z
DTEND:20130713T193000Z
DESCRIPTION:mit Frau Wolle und Margarete Wenzel (Erzählerinnen) und K
 aren Schlimp (Musikerin)   /   Eintritt\: 14.-
LOCATION:Tiroler Volkskunstmuseum\, Innsbruck
CATEGORIES:Tirol
URL:http://www.frauwolle.at/
CLASS:PUBLIC
END:VEVENT
END:VCALENDAR
