BEGIN:VCALENDAR
PRODID:-//AT Content Types//AT Event//EN
VERSION:2.0
METHOD:PUBLISH
BEGIN:VEVENT
DTSTAMP:20260422T171751Z
CREATED:20120919T083516Z
UID:ATEvent-02afd04bec3b35d464ed857914fb8b16
LAST-MODIFIED:20120919T084153Z
SUMMARY:FEDERLEICHT und VOGELFREI
DTSTART:20121012T180000Z
DTEND:20121012T200000Z
DESCRIPTION:Frau Wolle erzählt gemeinsam mit David Ambrose\; Stories 
 and folktales in English and German\nGeschichten und Märchen auf Deut
 sch & Englisch
LOCATION:Mehrzwecksaal der Musikschule in Telfs
CATEGORIES:Tirol
CONTACT:Frau Wolle\, 0512-370316\, frau.wolle@utanet.at
URL:http://www.frauwolle.at
CLASS:PUBLIC
END:VEVENT
END:VCALENDAR
