BEGIN:VCALENDAR
PRODID:-//AT Content Types//AT Event//EN
VERSION:1.0
BEGIN:VEVENT
DTSTART:20130518T180000Z
DTEND:20130518T203000Z
DCREATED:20130128T152002Z
UID:ATEvent-1771b054dff2a373381c02c8ff36d2d8
SEQUENCE:0
LAST-MODIFIED:20130128T152019Z
SUMMARY:"Das buten Treiben im Mittelalter"
DESCRIPTION:Tamara Hölzlsauer\: Interaktives Märchentheater zum mits
 pielen und mitmachen.
LOCATION:Seminarhaus Schlegelberg\, 4681 Rottenbach/OÖ
PRIORITY:3
TRANSP:0
END:VEVENT
END:VCALENDAR
