BEGIN:VCALENDAR
PRODID:-//AT Content Types//AT Event//EN
VERSION:2.0
METHOD:PUBLISH
BEGIN:VEVENT
DTSTAMP:20260422T194340Z
CREATED:20130128T151741Z
UID:ATEvent-3d478a73db9658e9a390df3d42256f58
LAST-MODIFIED:20130128T151804Z
SUMMARY:Walpurgisnacht am Hemmaberg - "Königin und wilde Frau"
DTSTART:20130430T170000Z
DTEND:20130430T200000Z
DESCRIPTION:Tamara Hölzlsauer\: Walpurgisnacht am Hemmaberg - "König
 in und wilde Frau" in uns entdecken\, erleben und mit nachhause nehmen
 .
LOCATION:auf dem Hemmaberg bei der Kirche  9142  Globasnitz
CATEGORIES:Kärnten
CONTACT:Tamara Hölzlsauer\, +43 664 1040418\, tamaraanna@maerchen-erzaehlerin.at
URL:http://www.maerchen-erzaehlerin.at
CLASS:PUBLIC
END:VEVENT
END:VCALENDAR
