BEGIN:VCALENDAR
PRODID:-//AT Content Types//AT Event//EN
VERSION:1.0
BEGIN:VEVENT
DTSTART:20121123T183000Z
DTEND:20121123T203000Z
DCREATED:20121030T114706Z
UID:ATEvent-d450730833e7442837b3f3b96bc2950e
SEQUENCE:0
LAST-MODIFIED:20121030T114715Z
SUMMARY:"Herzfeuer" Grazer Nächte der Erzählkunst 2012\: Das Fest im Herzen
DESCRIPTION:Aron Saltiel und Frederik Mellak erzählen Geschichten von
  der Kraft der Musik und musizieren gemeinsam mit dem Publikum  /  Ann
 a Hrozny spielt Harfe\, Drehleier\, Flöten\, Mandola  /  Anmeldung er
 beten unter 0699 12197373
LOCATION:Musiksalon Ehrfurt\, Herrengasse 3 in Graz
PRIORITY:3
TRANSP:0
END:VEVENT
END:VCALENDAR
