BEGIN:VCALENDAR
PRODID:-//AT Content Types//AT Event//EN
VERSION:1.0
BEGIN:VEVENT
DTSTART:20120908T140000Z
DTEND:20120908T150000Z
DCREATED:20120727T120921Z
UID:ATEvent-f9e01a9d10ddfbfdf07fd9c5966afe3e
SEQUENCE:0
LAST-MODIFIED:20120727T193343Z
SUMMARY:"Geschichten für Groß und Klein"
DESCRIPTION:Erzählerin\: Saga Susa\n\nam SpeiseLokal! - Fest
LOCATION:"Dreierhof" - Hof 3\, Maria Anzbach
PRIORITY:3
TRANSP:0
END:VEVENT
END:VCALENDAR
