BEGIN:VCALENDAR
PRODID:-//AT Content Types//AT Event//EN
VERSION:2.0
METHOD:PUBLISH
BEGIN:VEVENT
DTSTAMP:20260422T194325Z
CREATED:20120722T104516Z
UID:ATEvent-9e8ab53068bce2f0e3ca0738890803d9
LAST-MODIFIED:20120722T104530Z
SUMMARY:"Nacht im Garten - Gärten der Nacht"
DTSTART:20121006T170000Z
DTEND:20121006T220000Z
DESCRIPTION:Margarete Wenzel erzählt im Rahmen der Lange Nacht der Mu
 seen Geschichten aus aller Welt von Wachsen und Gedeihen\, von heimlic
 her Liebe und unheimlich schönen Momenten\, vom Duft der Finsternis u
 nd keimender Erkenntnis\, umrahmt von zauberhaften Klängen…
LOCATION:Österr. Gartenbaumuseum\, Siebeckstraße 14\, 1220 Wien
CONTACT:Margarete Wenzel\, 01-481 76 64\, mw@maerchenakademie-wien.at
URL:http://www.maerchenakademie-wien.at
CLASS:PUBLIC
END:VEVENT
END:VCALENDAR
