BEGIN:VCALENDAR
PRODID:-//AT Content Types//AT Event//EN
VERSION:1.0
BEGIN:VEVENT
DTSTART:20120909T110000Z
DTEND:20120909T123000Z
DCREATED:20120827T120041Z
UID:ATEvent-63401321e5b7985649fc2fcf5670d30d
SEQUENCE:0
LAST-MODIFIED:20120827T120103Z
SUMMARY:\: Erzählkunst & Klang am Totensee/Villanderer Alm - Tuiflische Tuiflsgschichtn
DESCRIPTION:Erzählerin Heike Vigl
LOCATION:Totensee\, Villanderer Alm
PRIORITY:3
TRANSP:0
END:VEVENT
END:VCALENDAR
