BEGIN:VCALENDAR
PRODID:-//AT Content Types//AT Event//EN
VERSION:2.0
METHOD:PUBLISH
BEGIN:VEVENT
DTSTAMP:20260422T172217Z
CREATED:20121016T161158Z
UID:ATEvent-87f79f65ec168362e1f327e7f931b93b
LAST-MODIFIED:20121016T161224Z
SUMMARY:Erzähl es - Viertes Internationales Erzählkunstfestival Innsbruck
DTSTART:20121108T190000Z
DTEND:20121124T170000Z
DESCRIPTION:Vom 8. bis 24. November 2012 findet das Vierte Internation
 ale Erzählkunstfestival Innsbruck statt.\nUnter dem Motto „Und wenn
  sie nicht gestorben sind ...“ präsentiert die Tiroler Kulturinitia
 tive buehnefrei.at heuer 24 Tage lang Erzählkunst vom Feinsten.\nDas 
 Programm www.buehnefrei.at
LOCATION:Innsbruck
CATEGORIES:Tirol
CONTACT:buehnefrei.at Die TIROLER Kulturinitiative\, +43 (0)676/77 322 77\, reservierungen@buehnefrei.at
URL:http://www.buehnefrei.at
CLASS:PUBLIC
END:VEVENT
END:VCALENDAR
