BEGIN:VCALENDAR
PRODID:-//AT Content Types//AT Event//EN
VERSION:1.0
BEGIN:VEVENT
DTSTART:20130702T073000Z
DTEND:20130702T093000Z
DCREATED:20130607T132942Z
UID:ATEvent-3e79f675dab8c1a158d410a3678d8960
SEQUENCE:0
LAST-MODIFIED:20130607T133028Z
SUMMARY:ELFENSCHUH und ZWERGENMÜTZCHEN
DESCRIPTION:Christa Schmollgruber erzählt Märchen aus nah und fern u
 nd führt durch den Märchenwald über die Zwergenwiese bis zum Himmel
 . Zwischendurch setzen wir uns und hören von Elfen\, Zwergen und ande
 ren Wunderwesen. Zum Abschluss gibt´s dann für alle das obligatorisc
 he "Geschenk der Kokosnuss".   /   Anmeldung\: 0676-3927021 oder cs@ma
 erchenfuermenschen.at
LOCATION:Cobenzl Parkplatz\, an der Haltestelle des Busses 38A
PRIORITY:3
TRANSP:0
END:VEVENT
END:VCALENDAR
