BEGIN:VCALENDAR
PRODID:-//AT Content Types//AT Event//EN
VERSION:2.0
METHOD:PUBLISH
BEGIN:VEVENT
DTSTAMP:20260422T145457Z
CREATED:20130607T133501Z
UID:ATEvent-c22cdda3793e429a7bd0c4fe834065b5
LAST-MODIFIED:20130607T133514Z
SUMMARY:ELFENSCHUH und ZWERGENMÜTZCHEN
DTSTART:20130723T073000Z
DTEND:20130723T093000Z
DESCRIPTION:Christa Schmollgruber erzählt Märchen aus nah und fern u
 nd führt durch den Märchenwald über die Zwergenwiese bis zum Himmel
 . Zwischendurch setzen wir uns und hören von Elfen\, Zwergen und ande
 ren Wunderwesen. Zum Abschluss gibt´s dann für alle das obligatorisc
 he "Geschenk der Kokosnuss".   /   Anmeldung\: 0676-3927021 oder cs@ma
 erchenfuermenschen.at
LOCATION:Cobenzl Parkplatz\, an der Haltestelle des Busses 38A
CATEGORIES:Wien
CONTACT:Christa Schmollgruber\, 0676-3927021\, cs@maerchenfuermenschen.at
URL:http://www.maerchenfuermenschen.at
CLASS:PUBLIC
END:VEVENT
END:VCALENDAR
