BEGIN:VCALENDAR
PRODID:-//AT Content Types//AT Event//EN
VERSION:2.0
METHOD:PUBLISH
BEGIN:VEVENT
DTSTAMP:20260422T171542Z
CREATED:20120806T154531Z
UID:ATEvent-2d680ef8c1e122a4d15dfb8e4958a078
LAST-MODIFIED:20120806T154546Z
SUMMARY:Elfen\, Tiere\, Menschenkinder
DTSTART:20120807T070000Z
DTEND:20120807T090000Z
DESCRIPTION:Erzählerin Christa Schmollgruber \: Ein Märchen-Spazierg
 ang für Familien durch den Wienerwald im Rahmen des wienXtra feriensp
 iels.
LOCATION:Treffpunkt\: Bushaltestelle Cobenzl Parkplatz (38A)
CATEGORIES:Wien
CONTACT:Christa Schmollgruber\, 0676-3927021\, cs@maerchenfuermenschen.at
URL:http://www.maerchenfuermenschen.at
CLASS:PUBLIC
END:VEVENT
END:VCALENDAR
