BEGIN:VCALENDAR
PRODID:-//AT Content Types//AT Event//EN
VERSION:1.0
BEGIN:VEVENT
DTSTART:20121020T123000Z
DTEND:20121020T143000Z
DCREATED:20120928T102718Z
UID:ATEvent-0fcc95819c081bdea6ed527d581a268a
SEQUENCE:0
LAST-MODIFIED:20120928T103308Z
SUMMARY:ELFEN\, TIERE\, MENSCHENKINDER
DESCRIPTION:Mit Christa Schmollgruber ein Märchen-Spaziergang für Fa
 milien durch den Wienerwald im Rahmen der Kinderfreunde Margareten.\nV
 om Cobenzl aus gehen wir durch den Zauberwald bis zum Lebensbaumkreis 
 am Himmel. Zwischendurch  setzten wir uns und hören Märchen\, wie Me
 nschen\, Elfen und Tiere einander helfen und so ihr Glück finden. Zum
  Abschluss gibt´s dann für alle das obligatorische "Geschenk der Kok
 osnuss".\n\nBitte bringt eine wetterfeste Sitzunterlage mit.\nKostenfr
 ei\n\nAnmeldung erforderlich bei Kinderfreunde Margareten\, 0664-73967
 550
LOCATION:Bushaltestelle Cobenzl Parkplatz (38A)
PRIORITY:3
TRANSP:0
END:VEVENT
END:VCALENDAR
