BEGIN:VCALENDAR
PRODID:-//AT Content Types//AT Event//EN
VERSION:2.0
METHOD:PUBLISH
BEGIN:VEVENT
DTSTAMP:20260422T171752Z
CREATED:20120806T154746Z
UID:ATEvent-a5af3252bc113387fb8d693b63cc0bc9
LAST-MODIFIED:20120806T154808Z
SUMMARY:Elfen\, Tiere\, Menschenkinder
DTSTART:20120814T070000Z
DTEND:20120814T090000Z
DESCRIPTION:Erzählerin Christa Schmollgruber \: Ein Märchen-Spazierg
 ang für Familien durch den Wienerwald im Rahmen des wienXtra feriensp
 iels.
LOCATION:Treffpunkt\: Bushaltestelle Cobenzl Parkplatz (38A)
CATEGORIES:Wien
CONTACT:Christa Schmollgruber\, 0676-3927021\, cs@maerchenfuermenschen.at
URL:http://www.maerchenfuermenschen.at
CLASS:PUBLIC
END:VEVENT
END:VCALENDAR
