BEGIN:VCALENDAR
PRODID:-//AT Content Types//AT Event//EN
VERSION:1.0
BEGIN:VEVENT
DTSTART:20121023T173000Z
DTEND:20121023T193000Z
DCREATED:20120919T083912Z
UID:ATEvent-1de4769b0193eadad290375d41ad6827
SEQUENCE:0
LAST-MODIFIED:20120919T083930Z
SUMMARY:EISENHANS trifft HENNENPFÃ–SL
DESCRIPTION:Frau Wolle erzÃ¤hlt rostfreie MÃ¤rchen der Tiroler BrÃ¼der
  Zingerle und ein bisschen Grimm dazu. AnlÃ¤sslich des JubilÃ¤umsjahre
 s 200 Jahre Kinder- und HausmÃ¤rchen der BrÃ¼der Grimm.\nLiebe und GlÃ
 ¼ck werden verloren\, verfolgt und verstanden. Nebenbei erfahren wir e
 in wenig Ã¼ber das Leben der zwei BrÃ¼der\, die diese Geschichten gesa
 mmelt haben.
LOCATION:Tyrolia Buchhandung in Salzburg\, NÃ¤he Landestheater\, zwischen Markartplatz und Linzergasse
PRIORITY:3
TRANSP:0
END:VEVENT
END:VCALENDAR
