BEGIN:VCALENDAR
PRODID:-//AT Content Types//AT Event//EN
VERSION:2.0
METHOD:PUBLISH
BEGIN:VEVENT
DTSTAMP:20260422T172417Z
CREATED:20120919T085000Z
UID:ATEvent-0613aef948a008627c79f2976e14e8c7
LAST-MODIFIED:20120919T085027Z
SUMMARY:EISENHANS TRIFFT HENNENPFÃ–SL
DTSTART:20121123T180000Z
DTEND:20121123T200000Z
DESCRIPTION:Frau Wolle erzÃ¤hlt rostfreie MÃ¤rchen der Tiroler BrÃ¼der
  Zingerle und ein bisschen Grimm dazu. AnlÃ¤sslich des JubilÃ¤umsjahre
 s 200 Jahre Kinder- und HausmÃ¤rchen der BrÃ¼der Grimm.\nLiebe und GlÃ
 ¼ck werden verloren\, verfolgt und verstanden.
LOCATION:in der Tyrolia Filiale Imst\, RathausstraÃŸe 1 bei der Bank\, vor der Sparkasse
CATEGORIES:Tirol
CONTACT:Frau Wolle\, 0512-370316\, frau.wolle@utanet.at
URL:http://www.frauwolle.at
CLASS:PUBLIC
END:VEVENT
END:VCALENDAR
