BEGIN:VCALENDAR
PRODID:-//AT Content Types//AT Event//EN
VERSION:1.0
BEGIN:VEVENT
DTSTART:20121121T180000Z
DTEND:20121121T200000Z
DCREATED:20120919T084550Z
UID:ATEvent-be89fb93298afca6123dd5f503c071a2
SEQUENCE:0
LAST-MODIFIED:20120919T084602Z
SUMMARY:EISENHANS TRIFFT HENNENPFÖSL
DESCRIPTION:Frau Wolle erzählt rostfreie Märchen der Tiroler Brüder
  Zingerle und ein bisschen Grimm dazu. Anlässlich des Jubiläumsjahre
 s 200 Jahre Kinder- und Hausmärchen der Brüder Grimm.\nGänse flehen
  um ihr Leben\, Jäger verschwinden spurlos\, Hühner gackern fröhlic
 h\, Tote stehen wieder auf.
LOCATION:in der Tyrolia in Reutte
PRIORITY:3
TRANSP:0
END:VEVENT
END:VCALENDAR
