BEGIN:VCALENDAR
PRODID:-//AT Content Types//AT Event//EN
VERSION:2.0
METHOD:PUBLISH
BEGIN:VEVENT
DTSTAMP:20260422T172843Z
CREATED:20120919T084357Z
UID:ATEvent-6a7e74f48fb10b217346f73680b0e42d
LAST-MODIFIED:20120919T084411Z
SUMMARY:EISENHANS TRIFFT HENNENPFÖSL
DTSTART:20121117T183000Z
DTEND:20121117T203000Z
DESCRIPTION:Frau Wolle erzählt rostfreie Märchen der Tiroler Brüder
  Zingerle und ein bisschen Grimm dazu. gemeinsam mit der Musikgruppe d
 ie Saligen\nAnlässlich des Jubiläumsjahres 200 Jahre Kinder- und Hau
 smärchen der Brüder Grimm.\nGänse flehen um ihr Leben\, Jäger vers
 chwinden spurlos\, Hühner gackern fröhlich\, Tote stehen wieder auf.
  Liebe und Glück werden verloren\, verfolgt und verstanden. Die Märc
 hen aus Tirol werden lebendig und frei erzählt. Nebenbei erfahren wir
  ein wenig über das Leben der zwei Brüder\, die diese Geschichten ge
 sammelt haben.
LOCATION:im Urichhaus am Bergisel in Innsbruck
CATEGORIES:Tirol
CONTACT:Frau Wolle\, 0512-370316\, frau.wolle@utanet.at
URL:http://www.frauwolle.at
CLASS:PUBLIC
END:VEVENT
END:VCALENDAR
