BEGIN:VCALENDAR
PRODID:-//AT Content Types//AT Event//EN
VERSION:2.0
METHOD:PUBLISH
BEGIN:VEVENT
DTSTAMP:20260422T173855Z
CREATED:20120827T115838Z
UID:ATEvent-85dcf2867985ff80348aa9b98e9613b7
LAST-MODIFIED:20120827T115857Z
SUMMARY:Diebeszauber im Rahmen des Familienfestes
DTSTART:20120908T153000Z
DTEND:20120908T163000Z
DESCRIPTION:Erzählerin Heike Vigl
LOCATION:Stadtbibliothek Klausen
CATEGORIES:Südtirol
CONTACT:Heike Vigl\, +393405675773\, heikevigl@dnet.it
CLASS:PUBLIC
END:VEVENT
END:VCALENDAR
