BEGIN:VCALENDAR
PRODID:-//AT Content Types//AT Event//EN
VERSION:2.0
METHOD:PUBLISH
BEGIN:VEVENT
DTSTAMP:20260422T195548Z
CREATED:20130128T150715Z
UID:ATEvent-103df2203cd2f32a7117852967437294
LAST-MODIFIED:20130128T150818Z
SUMMARY:Der Teufel mit den drei goldenen Haaren - Geschichten vom Glück
DTSTART:20130305T183000Z
DTEND:20130305T193000Z
DESCRIPTION:Tamara Hölzlsauer\: "Poesie mit Musik" - für alle die ge
 rne Reisen\, entspannen und ferne Länder kennenlernen wollen.
LOCATION:Seminar - und Veranstaltungszentrum  Dr. Andreas A. Aspernig /  St. Veiterstr. 18/1. Stock / 9020 Klagenfurt
CATEGORIES:Kärnten
CONTACT:Tamara Hölzlsauer\, +43 664 1040418\, tamaraanna@maerchen-erzaehlerin.at
URL:http://www.maerchen-erzaehlerin.at
CLASS:PUBLIC
END:VEVENT
END:VCALENDAR
